BEGIN:VCALENDAR
VERSION:2.0
PRODID:-//Silkie&#039;s Farm - ECPv6.15.20//NONSGML v1.0//EN
CALSCALE:GREGORIAN
METHOD:PUBLISH
X-WR-CALNAME:Silkie&#039;s Farm
X-ORIGINAL-URL:https://silkiesfarm.com
X-WR-CALDESC:Events for Silkie&#039;s Farm
REFRESH-INTERVAL;VALUE=DURATION:PT1H
X-Robots-Tag:noindex
X-PUBLISHED-TTL:PT1H
BEGIN:VTIMEZONE
TZID:America/New_York
BEGIN:DAYLIGHT
TZOFFSETFROM:-0500
TZOFFSETTO:-0400
TZNAME:EDT
DTSTART:20240310T070000
END:DAYLIGHT
BEGIN:STANDARD
TZOFFSETFROM:-0400
TZOFFSETTO:-0500
TZNAME:EST
DTSTART:20241103T060000
END:STANDARD
BEGIN:DAYLIGHT
TZOFFSETFROM:-0500
TZOFFSETTO:-0400
TZNAME:EDT
DTSTART:20250309T070000
END:DAYLIGHT
BEGIN:STANDARD
TZOFFSETFROM:-0400
TZOFFSETTO:-0500
TZNAME:EST
DTSTART:20251102T060000
END:STANDARD
BEGIN:DAYLIGHT
TZOFFSETFROM:-0500
TZOFFSETTO:-0400
TZNAME:EDT
DTSTART:20260308T070000
END:DAYLIGHT
BEGIN:STANDARD
TZOFFSETFROM:-0400
TZOFFSETTO:-0500
TZNAME:EST
DTSTART:20261101T060000
END:STANDARD
END:VTIMEZONE
BEGIN:VEVENT
DTSTART;TZID=America/New_York:20250216T130000
DTEND;TZID=America/New_York:20250216T150000
DTSTAMP:20260420T123409
CREATED:20241111T204651Z
LAST-MODIFIED:20250113T195855Z
UID:6846-1739710800-1739718000@silkiesfarm.com
SUMMARY:SOLD OUT - Mini Gnome and Mushroom - Felting with Farren
DESCRIPTION:Ticket Information    \n\n\n\nGnomes have been a popular class here for the last few years. Their whimsical form just makes you smile. We decided to take a new approach to the gnome class by shrinking the sculptures and adding a second sculpture – a mushroom. You can either set these mini pieces on a shelf or mount on a stick and place in a potted plant.
URL:https://silkiesfarm.com/event/mini-gnome-and-mushroom-felting-with-farren/
ATTACH;FMTTYPE=image/jpeg:https://silkiesfarm.com/wp-content/uploads/2024/11/mini-gnomes2-scaled.jpg
END:VEVENT
END:VCALENDAR